BEGIN:VCALENDAR
VERSION:2.0
PRODID:-//Karpacz//NONSGML v1.0//PL
CALSCALE:GREGORIAN
X-WR-TIMEZONE:Europe/Warsaw
BEGIN:VEVENT
DTSTART:20231125T090000
DTEND:20231125T180000
UID:69e537e7087fc
DTSTAMP:20260419T221535
LOCATION:Budniki - dawna osada górska
DESCRIPTION: https://www.karpacz.pl/pozegnanie-slonca-w-budnikach-2931/e
URL:https://www.karpacz.pl/pozegnanie-slonca-w-budnikach-2931/e
SUMMARY:Pożegnanie Słońca w Budnikach
END:VEVENT
END:VCALENDAR