BEGIN:VCALENDAR
VERSION:2.0
PRODID:-//Karpacz//NONSGML v1.0//PL
CALSCALE:GREGORIAN
X-WR-TIMEZONE:Europe/Warsaw
BEGIN:VEVENT
DTSTART:20111209T170000
DTEND:20111209T170000
UID:69ecd5c9253d2
DTSTAMP:20260425T165505
LOCATION:Muzeum Sportu i Turystyki
DESCRIPTION:
DYREKTOR
MUZEUM SPORTU I TURYSTYKI W KARPACZU\,
INSTYTUCJA KULTURY SAMORZĄDU WOJEW&Oacute\;DZTWA DOLNOŚL
zapraszają na prelekcję multimedialną
MARKA ŁOPATKI pt. ARMENIA
09 grudnia 2011 r.\,  https://www.karpacz.pl/prelekcja-multimedialna-marka-lopatki-1045-1348/e
URL:https://www.karpacz.pl/prelekcja-multimedialna-marka-lopatki-1045-1348/e
SUMMARY:Prelekcja multimedialna Marka Łopatki 
END:VEVENT
END:VCALENDAR