BEGIN:VCALENDAR
VERSION:2.0
PRODID:-//Karpacz//NONSGML v1.0//PL
CALSCALE:GREGORIAN
X-WR-TIMEZONE:Europe/Warsaw
BEGIN:VEVENT
DTSTART:20181027T170000
DTEND:20181027T200000
UID:69eac50437db6
DTSTAMP:20260424T031900
LOCATION:Aula Szkoły Podstawowej\, ul. Konstytucji 3 Maja 48a
DESCRIPTION: https://www.karpacz.pl/przeglad-tworczosci-artystycznej-mieszkancow-karpacza-2540/e
URL:https://www.karpacz.pl/przeglad-tworczosci-artystycznej-mieszkancow-karpacza-2540/e
SUMMARY:Przegląd Twórczości Artystycznej Mieszkańców Karpacza
END:VEVENT
END:VCALENDAR