BEGIN:VCALENDAR
VERSION:2.0
PRODID:-//Karpacz//NONSGML v1.0//PL
CALSCALE:GREGORIAN
X-WR-TIMEZONE:Europe/Warsaw
BEGIN:VEVENT
DTSTART:20150214T170000
DTEND:20150214T170000
UID:69ea77e8cb5be
DTSTAMP:20260423T215000
LOCATION:muszla koncertowa\, park przy ulicy Mickiewicza
DESCRIPTION: https://www.karpacz.pl/przystanek-jamajka-83/e
URL:https://www.karpacz.pl/przystanek-jamajka-83/e
SUMMARY:Przystanek JAMAJKA
END:VEVENT
END:VCALENDAR