BEGIN:VCALENDAR
VERSION:2.0
PRODID:-//Karpacz//NONSGML v1.0//PL
CALSCALE:GREGORIAN
X-WR-TIMEZONE:Europe/Warsaw
BEGIN:VEVENT
DTSTART:20260501T100000
DTEND:20260501T140000
UID:69e8eaa7a7683
DTSTAMP:20260422T173503
LOCATION:Centrum Edukacyjne Karkonoskiego Parku Narodowego\, ul. Leśna 9
DESCRIPTION: https://www.karpacz.pl/public/index.php/chytre-rosliny-i-przebiegli-zapylacze-3425/e
URL:https://www.karpacz.pl/public/index.php/chytre-rosliny-i-przebiegli-zapylacze-3425/e
SUMMARY:CHYTRE ROŚLINY I PRZEBIEGLI ZAPYLACZE
END:VEVENT
END:VCALENDAR