BEGIN:VCALENDAR
VERSION:2.0
PRODID:-//Karpacz//NONSGML v1.0//PL
CALSCALE:GREGORIAN
X-WR-TIMEZONE:Europe/Warsaw
BEGIN:VEVENT
DTSTART:20260502T180000
DTEND:20260502T220000
UID:69e6952f4a1f6
DTSTAMP:20260420T230551
LOCATION:Park przy Lipie Sądowej\, ul. Kościelna
DESCRIPTION: https://www.karpacz.pl/public/index.php/majowa-dyskoteka-pod-chmurka-3423/e
URL:https://www.karpacz.pl/public/index.php/majowa-dyskoteka-pod-chmurka-3423/e
SUMMARY:Majowa dyskoteka pod chmurką
END:VEVENT
END:VCALENDAR