BEGIN:VCALENDAR
VERSION:2.0
PRODID:-//Karpacz//NONSGML v1.0//PL
CALSCALE:GREGORIAN
X-WR-TIMEZONE:Europe/Warsaw
BEGIN:VEVENT
DTSTART:20260501T100000
DTEND:20260501T140000
UID:69e62d1de5774
DTSTAMP:20260420T154149
LOCATION:Informacja Turystyczna w Karpaczu\, ul. Konstytucji 3 Maja 25
DESCRIPTION: https://www.karpacz.pl/public/index.php/majowe-wycieczki-z-przewodnikiem-siegaj-gdzie-wzrok-nie-siega-3421/e
URL:https://www.karpacz.pl/public/index.php/majowe-wycieczki-z-przewodnikiem-siegaj-gdzie-wzrok-nie-siega-3421/e
SUMMARY:Majowe wycieczki z przewodnikiem - Sięgaj gdzie wzrok nie sięga
END:VEVENT
END:VCALENDAR