BEGIN:VCALENDAR
VERSION:2.0
PRODID:-//Karpacz//NONSGML v1.0//PL
CALSCALE:GREGORIAN
X-WR-TIMEZONE:Europe/Warsaw
BEGIN:VEVENT
DTSTART:20260503T100000
DTEND:20260503T140000
UID:69e644a9cfc1d
DTSTAMP:20260420T172217
LOCATION:Informacja Turystyczna w Karpaczu\, ul. Konstytucji 3 Maja 25
DESCRIPTION: https://www.karpacz.pl/public/index.php/majowe-wycieczki-z-przewodnikiem-wedrowka-z-duchem-gor-3422/e
URL:https://www.karpacz.pl/public/index.php/majowe-wycieczki-z-przewodnikiem-wedrowka-z-duchem-gor-3422/e
SUMMARY:Majowe wycieczki z przewodnikiem - Wędrówka z Duchem Gór
END:VEVENT
END:VCALENDAR