BEGIN:VCALENDAR
VERSION:2.0
PRODID:-//Karpacz//NONSGML v1.0//PL
CALSCALE:GREGORIAN
X-WR-TIMEZONE:Europe/Warsaw
BEGIN:VEVENT
DTSTART:20260502T100000
DTEND:20260502T150000
UID:69e8eab26467a
DTSTAMP:20260422T173514
LOCATION:Centrum Edukacyjne Karkonoskiego Parku Narodowego\, ul. Leśna 9
DESCRIPTION: https://www.karpacz.pl/public/index.php/ziolowy-biznes-karkonoskich-laborantow-3426/e
URL:https://www.karpacz.pl/public/index.php/ziolowy-biznes-karkonoskich-laborantow-3426/e
SUMMARY:ZIOŁOWY BIZNES KARKONOSKICH LABORANTÓW
END:VEVENT
END:VCALENDAR