BEGIN:VCALENDAR
VERSION:2.0
PRODID:-//Karpacz//NONSGML v1.0//PL
CALSCALE:GREGORIAN
X-WR-TIMEZONE:Europe/Warsaw
BEGIN:VEVENT
DTSTART:20200919T170000
DTEND:20200919T200000
UID:69ecb4a484d9b
DTSTAMP:20260425T143340
LOCATION:Stadion Lekkoatletyczny im. Ireny Szewińskiej
DESCRIPTION: https://www.karpacz.pl/pzla-mistrzostwa-polski-u23-i-s-w-biegu-na-10-000-m-2679/e
URL:https://www.karpacz.pl/pzla-mistrzostwa-polski-u23-i-s-w-biegu-na-10-000-m-2679/e
SUMMARY:PZLA Mistrzostwa Polski U23 i S w biegu na 10 000 m
END:VEVENT
END:VCALENDAR