BEGIN:VCALENDAR
VERSION:2.0
PRODID:-//Karpacz//NONSGML v1.0//PL
CALSCALE:GREGORIAN
X-WR-TIMEZONE:Europe/Warsaw
BEGIN:VEVENT
DTSTART:20160213T200000
DTEND:20160213T000000
UID:69ecd45925033
DTSTAMP:20260425T164857
LOCATION:Scena Teatralna\, Hotel Gołębiewski
DESCRIPTION:spektakl https://www.karpacz.pl/single-po-japonsku-2233/e
URL:https://www.karpacz.pl/single-po-japonsku-2233/e
SUMMARY:Single po Japońsku
END:VEVENT
END:VCALENDAR