BEGIN:VCALENDAR
VERSION:2.0
PRODID:-//Karpacz//NONSGML v1.0//PL
CALSCALE:GREGORIAN
X-WR-TIMEZONE:Europe/Warsaw
BEGIN:VEVENT
DTSTART:20150221T170000
DTEND:20150221T170000
UID:69ed2ed236a9f
DTSTAMP:20260425T231458
LOCATION:Karpacz
DESCRIPTION: https://www.karpacz.pl/skijoering-devil-energy-cup-117/e
URL:https://www.karpacz.pl/skijoering-devil-energy-cup-117/e
SUMMARY:Skijoering Devil Energy Cup
END:VEVENT
END:VCALENDAR