BEGIN:VCALENDAR
VERSION:2.0
PRODID:-//Karpacz//NONSGML v1.0//PL
CALSCALE:GREGORIAN
X-WR-TIMEZONE:Europe/Warsaw
BEGIN:VEVENT
DTSTART:20080301T000000
DTEND:20080301T000000
UID:69ed41ead57ac
DTSTAMP:20260426T003626
LOCATION:stok Kolorowa                                                                                       
DESCRIPTION:&nbsp\;
Zadaniem uczestnik&oacute\;w &bdquo\;Ślizgu Na Bele Czym&rdquo\; jest zjazd ze stoku na zbudowanym na tę okoliczność z dowolnych materiał&oacute\;w i w dowolnej konwencji pojeździe nie będ https://www.karpacz.pl/slizg-na-bele-czym-433/e
URL:https://www.karpacz.pl/slizg-na-bele-czym-433/e
SUMMARY:Ślizg na Bele Czym
END:VEVENT
END:VCALENDAR