BEGIN:VCALENDAR
VERSION:2.0
PRODID:-//Karpacz//NONSGML v1.0//PL
CALSCALE:GREGORIAN
X-WR-TIMEZONE:Europe/Warsaw
BEGIN:VEVENT
DTSTART:20230318T100000
DTEND:20230318T130000
UID:69eb9ce5f2639
DTSTAMP:20260424T184005
LOCATION:Centrum Informacyjne KPN
DESCRIPTION: https://www.karpacz.pl/soboty-z-kpn-czy-sniezne-zimy-znikna-zupelnie-nawet-w-karkonoszach-2857/e
URL:https://www.karpacz.pl/soboty-z-kpn-czy-sniezne-zimy-znikna-zupelnie-nawet-w-karkonoszach-2857/e
SUMMARY:"Soboty z KPN" Czy śnieżne zimy znikną zupełnie nawet w Karkonoszach?
END:VEVENT
END:VCALENDAR