BEGIN:VCALENDAR
VERSION:2.0
PRODID:-//Karpacz//NONSGML v1.0//PL
CALSCALE:GREGORIAN
X-WR-TIMEZONE:Europe/Warsaw
BEGIN:VEVENT
DTSTART:20230814T203000
DTEND:20230814T223000
UID:69e832fb49208
DTSTAMP:20260422T043123
LOCATION:Karpacz\, Hotel Gołębiewski
DESCRIPTION: https://www.karpacz.pl/spektakl-kiedy-kota-nie-ma-2872/e
URL:https://www.karpacz.pl/spektakl-kiedy-kota-nie-ma-2872/e
SUMMARY:Spektakl "Kiedy kota nie ma... "
END:VEVENT
END:VCALENDAR