BEGIN:VCALENDAR
VERSION:2.0
PRODID:-//Karpacz//NONSGML v1.0//PL
CALSCALE:GREGORIAN
X-WR-TIMEZONE:Europe/Warsaw
BEGIN:VEVENT
DTSTART:20230502T203000
DTEND:20230502T220000
UID:69e9688590c74
DTSTAMP:20260423T023205
LOCATION:Karpacz\, Hotel Gołębiewski
DESCRIPTION: https://www.karpacz.pl/spektakl-milosc-nie-z-tej-ziemi-2852/e
URL:https://www.karpacz.pl/spektakl-milosc-nie-z-tej-ziemi-2852/e
SUMMARY:Spektakl "Miłość nie z tej ziemi"
END:VEVENT
END:VCALENDAR