BEGIN:VCALENDAR
VERSION:2.0
PRODID:-//Karpacz//NONSGML v1.0//PL
CALSCALE:GREGORIAN
X-WR-TIMEZONE:Europe/Warsaw
BEGIN:VEVENT
DTSTART:20170502T203000
DTEND:20170502T223000
UID:69e64dd7da98f
DTSTAMP:20260420T180127
LOCATION:Hotel Gołębiewski Scena Teatralna
DESCRIPTION: https://www.karpacz.pl/spektakl-selfiecompl-2398/e
URL:https://www.karpacz.pl/spektakl-selfiecompl-2398/e
SUMMARY:Spektakl "SELFIE.com.pl"
END:VEVENT
END:VCALENDAR