BEGIN:VCALENDAR
VERSION:2.0
PRODID:-//Karpacz//NONSGML v1.0//PL
CALSCALE:GREGORIAN
X-WR-TIMEZONE:Europe/Warsaw
BEGIN:VEVENT
DTSTART:20250510T170000
DTEND:20250510T190000
UID:69e537bb97572
DTSTAMP:20260419T221451
LOCATION:Miejska Biblioteka Publiczna im. Tadeusza Różewicza w Karpaczu 
DESCRIPTION: https://www.karpacz.pl/spotkanie-autorskie-z-aneta-i-inessa-ormanczuk-3236/e
URL:https://www.karpacz.pl/spotkanie-autorskie-z-aneta-i-inessa-ormanczuk-3236/e
SUMMARY:Spotkanie Autorskie z Anetą i Inessą Ormańczuk
END:VEVENT
END:VCALENDAR