BEGIN:VCALENDAR
VERSION:2.0
PRODID:-//Karpacz//NONSGML v1.0//PL
CALSCALE:GREGORIAN
X-WR-TIMEZONE:Europe/Warsaw
BEGIN:VEVENT
DTSTART:20230105T170000
DTEND:20230105T183000
UID:69eab133beb70
DTSTAMP:20260424T015427
LOCATION:Miejskie Muzeum Zabawek ul. Kolejowa 3\, Karpacz
DESCRIPTION: https://www.karpacz.pl/spotkanie-organizacyjne-kola-gospodyn-karkonoskich-2827/e
URL:https://www.karpacz.pl/spotkanie-organizacyjne-kola-gospodyn-karkonoskich-2827/e
SUMMARY:Spotkanie organizacyjne Koła Gospodyń Karkonoskich
END:VEVENT
END:VCALENDAR