BEGIN:VCALENDAR
VERSION:2.0
PRODID:-//Karpacz//NONSGML v1.0//PL
CALSCALE:GREGORIAN
X-WR-TIMEZONE:Europe/Warsaw
BEGIN:VEVENT
DTSTART:20251221T170000
DTEND:20251221T183000
UID:69ea9f9b6b7b2
DTSTAMP:20260424T003923
LOCATION:Centrum Integracji\, Edukacji i Kultury w Karpaczu\, ul. Konstytucji 3 Maja 24
DESCRIPTION: https://www.karpacz.pl/swiateczny-koncert-ze-wspolnym-koledowaniem-3339/e
URL:https://www.karpacz.pl/swiateczny-koncert-ze-wspolnym-koledowaniem-3339/e
SUMMARY:Świąteczny koncert ze wspólnym kolędowaniem
END:VEVENT
END:VCALENDAR