BEGIN:VCALENDAR
VERSION:2.0
PRODID:-//Karpacz//NONSGML v1.0//PL
CALSCALE:GREGORIAN
X-WR-TIMEZONE:Europe/Warsaw
BEGIN:VEVENT
DTSTART:20241121T180000
DTEND:20241121T200000
UID:69ed07060fc6f
DTSTAMP:20260425T202510
LOCATION:Miejska Biblioteka Publiczna im. Tadeusza Różewicza w Karpaczu\, ul. Kolejowa 3
DESCRIPTION:Spotkanie z Jarosławem Szczyżowskim https://www.karpacz.pl/tajemnice-karkonoszy-i-gor-izerskich-3124/e
URL:https://www.karpacz.pl/tajemnice-karkonoszy-i-gor-izerskich-3124/e
SUMMARY:Tajemnice Karkonoszy i Gór Izerskich
END:VEVENT
END:VCALENDAR