BEGIN:VCALENDAR
VERSION:2.0
PRODID:-//Karpacz//NONSGML v1.0//PL
CALSCALE:GREGORIAN
X-WR-TIMEZONE:Europe/Warsaw
BEGIN:VEVENT
DTSTART:20101003T000000
DTEND:20101003T000000
UID:69ecfbc8becf7
DTSTAMP:20260425T193712
LOCATION:Stadion Miejski\, ul. Krótka
DESCRIPTION:Trans Karkonosze
03.10.2010 (niedziela)
&nbsp\; 8.30 - 10.30&nbsp\;&nbsp\;&nbsp\;zapisy w Biurze Zawodów&nbsp\;&nbsp\; 
10.30&nbsp\;&nbsp\;&nbsp\;&nbsp\;&nbsp\;&nbsp\;&nbsp\;&nbsp\;&nbsp\;&nbsp\;&nbsp\;&nbsp\;&nbsp https://www.karpacz.pl/trans-karkonosze-686-1678/e
URL:https://www.karpacz.pl/trans-karkonosze-686-1678/e
SUMMARY:Trans Karkonosze
END:VEVENT
END:VCALENDAR