BEGIN:VCALENDAR
VERSION:2.0
PRODID:-//Karpacz//NONSGML v1.0//PL
CALSCALE:GREGORIAN
X-WR-TIMEZONE:Europe/Warsaw
BEGIN:VEVENT
DTSTART:20150809T100000
DTEND:20150809T160000
UID:69e75aac57ab9
DTSTAMP:20260421T130828
LOCATION:start przy DW Bachus
DESCRIPTION:rowerowy wjazd na Śnieżkę https://www.karpacz.pl/uphill-race-sniezka-2015-82/e
URL:https://www.karpacz.pl/uphill-race-sniezka-2015-82/e
SUMMARY:Uphill Race Śnieżka 2015
END:VEVENT
END:VCALENDAR