BEGIN:VCALENDAR
VERSION:2.0
PRODID:-//Karpacz//NONSGML v1.0//PL
CALSCALE:GREGORIAN
X-WR-TIMEZONE:Europe/Warsaw
BEGIN:VEVENT
DTSTART:20241206T160000
DTEND:20241206T180000
UID:69eb1c708a5b4
DTSTAMP:20260424T093200
LOCATION:Park przy Lipie Sądowej
DESCRIPTION: https://www.karpacz.pl/uroczyste-rozswietlenie-choinki-w-karpaczu-3129/e
URL:https://www.karpacz.pl/uroczyste-rozswietlenie-choinki-w-karpaczu-3129/e
SUMMARY:Uroczyste rozświetlenie choinki w Karpaczu
END:VEVENT
END:VCALENDAR