BEGIN:VCALENDAR
VERSION:2.0
PRODID:-//Karpacz//NONSGML v1.0//PL
CALSCALE:GREGORIAN
X-WR-TIMEZONE:Europe/Warsaw
BEGIN:VEVENT
DTSTART:20200307T073000
DTEND:20200307T180000
UID:69e68b8e195ab
DTSTAMP:20260420T222446
LOCATION:Karpacz\, deptak
DESCRIPTION: https://www.karpacz.pl/vii-zimowy-ultramaraton-karkonoski-2632/e
URL:https://www.karpacz.pl/vii-zimowy-ultramaraton-karkonoski-2632/e
SUMMARY:VII Zimowy Ultramaraton Karkonoski
END:VEVENT
END:VCALENDAR