BEGIN:VCALENDAR
VERSION:2.0
PRODID:-//Karpacz//NONSGML v1.0//PL
CALSCALE:GREGORIAN
X-WR-TIMEZONE:Europe/Warsaw
BEGIN:VEVENT
DTSTART:20240814T093000
DTEND:20240814T143000
UID:69ec0f69c5cd4
DTSTAMP:20260425T024841
LOCATION:Dziki Wodospad - szlaban przy żółtym szlaku
DESCRIPTION:Szlakiem trzmiela - wycieczka entomologiczna https://www.karpacz.pl/wakacje-z-przyroda-i-przygoda-w-kpn-3029/e
URL:https://www.karpacz.pl/wakacje-z-przyroda-i-przygoda-w-kpn-3029/e
SUMMARY:Wakacje z przyrodą i przygodą w KPN
END:VEVENT
END:VCALENDAR