BEGIN:VCALENDAR
VERSION:2.0
PRODID:-//Karpacz//NONSGML v1.0//PL
CALSCALE:GREGORIAN
X-WR-TIMEZONE:Europe/Warsaw
BEGIN:VEVENT
DTSTART:20220809T100000
DTEND:20220809T140000
UID:69ea8819c7e2f
DTSTAMP:20260423T225905
LOCATION:Centrum Informacyjne KPN
DESCRIPTION:Dzień pszczół https://www.karpacz.pl/wakacyjne-podroze-naukowe-2793/e
URL:https://www.karpacz.pl/wakacyjne-podroze-naukowe-2793/e
SUMMARY:Wakacyjne podróże naukowe
END:VEVENT
END:VCALENDAR