BEGIN:VCALENDAR
VERSION:2.0
PRODID:-//Karpacz//NONSGML v1.0//PL
CALSCALE:GREGORIAN
X-WR-TIMEZONE:Europe/Warsaw
BEGIN:VEVENT
DTSTART:20210727T095500
DTEND:20210727T130000
UID:69eb0452df936
DTSTAMP:20260424T074906
LOCATION:Karpacz
DESCRIPTION: https://www.karpacz.pl/wakacyjne-wedrowki-bezplatne-wycieczki-po-karpaczu-z-przewodnikiem-2698/e
URL:https://www.karpacz.pl/wakacyjne-wedrowki-bezplatne-wycieczki-po-karpaczu-z-przewodnikiem-2698/e
SUMMARY:Wakacyjne wędrówki. Bezpłatne wycieczki po Karpaczu z przewodnikiem
END:VEVENT
END:VCALENDAR