BEGIN:VCALENDAR
VERSION:2.0
PRODID:-//Karpacz//NONSGML v1.0//PL
CALSCALE:GREGORIAN
X-WR-TIMEZONE:Europe/Warsaw
BEGIN:VEVENT
DTSTART:20210910T095500
DTEND:20210910T140000
UID:69e6daa52ed16
DTSTAMP:20260421T040213
LOCATION:Karpacz
DESCRIPTION: https://www.karpacz.pl/wakacyjne-wedrowki-bezplatne-wycieczki-po-karpaczu-z-przewodnikiem-2710/e
URL:https://www.karpacz.pl/wakacyjne-wedrowki-bezplatne-wycieczki-po-karpaczu-z-przewodnikiem-2710/e
SUMMARY:Wakacyjne wędrówki. Bezpłatne wycieczki po Karpaczu z przewodnikiem
END:VEVENT
END:VCALENDAR