BEGIN:VCALENDAR
VERSION:2.0
PRODID:-//Karpacz//NONSGML v1.0//PL
CALSCALE:GREGORIAN
X-WR-TIMEZONE:Europe/Warsaw
BEGIN:VEVENT
DTSTART:20240709T100000
DTEND:20240709T140000
UID:69ebc92be6c54
DTSTAMP:20260424T214859
LOCATION:Informacja Turystyczna w Karpaczu\, ul. Konstytucji 3 Maja 25
DESCRIPTION:Wędrówka z Karkonoszem https://www.karpacz.pl/wakacyjne-wedrowki-sladami-ducha-gor-bezplatne-wycieczki-po-karpaczu-z-przewodnikiem-3032/e
URL:https://www.karpacz.pl/wakacyjne-wedrowki-sladami-ducha-gor-bezplatne-wycieczki-po-karpaczu-z-przewodnikiem-3032/e
SUMMARY:Wakacyjne wędrówki "Śladami Ducha Gór". Bezpłatne wycieczki po Karpaczu z przewodnikiem
END:VEVENT
END:VCALENDAR