BEGIN:VCALENDAR
VERSION:2.0
PRODID:-//Karpacz//NONSGML v1.0//PL
CALSCALE:GREGORIAN
X-WR-TIMEZONE:Europe/Warsaw
BEGIN:VEVENT
DTSTART:20250214T170000
DTEND:20250214T220000
UID:69e7621d78b43
DTSTAMP:20260421T134013
LOCATION:Scena Teatralna Hotelu Gołębiewski w Karpaczu
DESCRIPTION: https://www.karpacz.pl/walentynkowe-spotkanie-miedzy-nim-a-nia-czylilappuntamento-dwa-koncerty-3133/e
URL:https://www.karpacz.pl/walentynkowe-spotkanie-miedzy-nim-a-nia-czylilappuntamento-dwa-koncerty-3133/e
SUMMARY:Walentynkowe spotkanie między Nim a Nią\, czyli L'appuntamento - dwa koncerty!
END:VEVENT
END:VCALENDAR