BEGIN:VCALENDAR
VERSION:2.0
PRODID:-//Karpacz//NONSGML v1.0//PL
CALSCALE:GREGORIAN
X-WR-TIMEZONE:Europe/Warsaw
BEGIN:VEVENT
DTSTART:20260202T150000
DTEND:20260202T180000
UID:69ea49644cca9
DTSTAMP:20260423T183132
LOCATION:Centrum Integracji\, Edukacji i Kultury w Karpaczu ul. Konstytucji 3 Maja 24
DESCRIPTION:„Góry uczą\, góry bawią – bezpieczne ferie w Karpaczu” https://www.karpacz.pl/warsztaty-ekologiczne-w-karpaczu-3369/e
URL:https://www.karpacz.pl/warsztaty-ekologiczne-w-karpaczu-3369/e
SUMMARY:Edukacyjne warsztaty ekologiczne w Karpaczu
END:VEVENT
END:VCALENDAR