BEGIN:VCALENDAR
VERSION:2.0
PRODID:-//Karpacz//NONSGML v1.0//PL
CALSCALE:GREGORIAN
X-WR-TIMEZONE:Europe/Warsaw
BEGIN:VEVENT
DTSTART:20190715T150000
DTEND:20190718T140000
UID:69e73c88c889d
DTSTAMP:20260421T105952
LOCATION:Miejskie Muzeum Zabawek
DESCRIPTION: https://www.karpacz.pl/warsztaty-pantomimiczne-dla-dzieci-2612/e
URL:https://www.karpacz.pl/warsztaty-pantomimiczne-dla-dzieci-2612/e
SUMMARY:Warsztaty pantomimiczne dla dzieci
END:VEVENT
END:VCALENDAR