BEGIN:VCALENDAR
VERSION:2.0
PRODID:-//Karpacz//NONSGML v1.0//PL
CALSCALE:GREGORIAN
X-WR-TIMEZONE:Europe/Warsaw
BEGIN:VEVENT
DTSTART:20241207T100000
DTEND:20241208T130000
UID:69e5499142337
DTSTAMP:20260419T233057
LOCATION:Centrum Integracji\, Edukacji i Kultury\, ul. Konstytucji 3 Maja 24\, Karpacz
DESCRIPTION: https://www.karpacz.pl/warsztaty-tworzenia-ozdob-choinkowych-z-beata-makutynowicz-3128/e
URL:https://www.karpacz.pl/warsztaty-tworzenia-ozdob-choinkowych-z-beata-makutynowicz-3128/e
SUMMARY:Warsztaty Tworzenia Ozdób Choinkowych z Beatą Makutynowicz
END:VEVENT
END:VCALENDAR