BEGIN:VCALENDAR
VERSION:2.0
PRODID:-//Karpacz//NONSGML v1.0//PL
CALSCALE:GREGORIAN
X-WR-TIMEZONE:Europe/Warsaw
BEGIN:VEVENT
DTSTART:20250409T160000
DTEND:20250409T180000
UID:69e94c3c1448d
DTSTAMP:20260423T003124
LOCATION:Centrum Integracji\, Edukacji i Kultury w Karpaczu ul. Konstytucji 3 Maja 24
DESCRIPTION:Wydarzenie bezpłatne https://www.karpacz.pl/warsztaty-tworzenia-ozdob-wielkanocnych-3218/e
URL:https://www.karpacz.pl/warsztaty-tworzenia-ozdob-wielkanocnych-3218/e
SUMMARY:Warsztaty tworzenia ozdób wielkanocnych
END:VEVENT
END:VCALENDAR