BEGIN:VCALENDAR
VERSION:2.0
PRODID:-//Karpacz//NONSGML v1.0//PL
CALSCALE:GREGORIAN
X-WR-TIMEZONE:Europe/Warsaw
BEGIN:VEVENT
DTSTART:20220113T170000
DTEND:20220113T180000
UID:69eb1cce7c1a3
DTSTAMP:20260424T093334
LOCATION:Miejskie Muzeum Zabawek ul. Kolejowa 3\, Karpacz
DESCRIPTION: https://www.karpacz.pl/wernisaz-anioly-nieoczywiste-wystawa-prac-beaty-makutynowicz-i-rafala-klementowskiego-2735/e
URL:https://www.karpacz.pl/wernisaz-anioly-nieoczywiste-wystawa-prac-beaty-makutynowicz-i-rafala-klementowskiego-2735/e
SUMMARY:Wernisaż "ANIOŁY NIEOCZYWISTE" - wystawa prac Beaty Makutynowicz i Rafała Klementowskiego
END:VEVENT
END:VCALENDAR