BEGIN:VCALENDAR
VERSION:2.0
PRODID:-//Karpacz//NONSGML v1.0//PL
CALSCALE:GREGORIAN
X-WR-TIMEZONE:Europe/Warsaw
BEGIN:VEVENT
DTSTART:20240517T170000
DTEND:20240517T180000
UID:69ed548f97bcd
DTSTAMP:20260426T015559
LOCATION:Miejskie Muzeum Zabawek ul. Kolejowa 3\, Karpacz
DESCRIPTION: https://www.karpacz.pl/wernisaz-wystawy-fotografii-grzegorza-truchanowicza-gory-przez-stare-okno-3008/e
URL:https://www.karpacz.pl/wernisaz-wystawy-fotografii-grzegorza-truchanowicza-gory-przez-stare-okno-3008/e
SUMMARY:Wernisaż wystawy fotografii Grzegorza Truchanowicza "Góry przez stare okno”
END:VEVENT
END:VCALENDAR