BEGIN:VCALENDAR
VERSION:2.0
PRODID:-//Karpacz//NONSGML v1.0//PL
CALSCALE:GREGORIAN
X-WR-TIMEZONE:Europe/Warsaw
BEGIN:VEVENT
DTSTART:20220429T160000
DTEND:20220609T170000
UID:69e5e58166e08
DTSTAMP:20260420T103617
LOCATION:Muzeum Sportu i Turystyki
DESCRIPTION: https://www.karpacz.pl/wernisaz-wystawy-fotografii-olimpijskie-tokio-2020-2754/e
URL:https://www.karpacz.pl/wernisaz-wystawy-fotografii-olimpijskie-tokio-2020-2754/e
SUMMARY:Wernisaż wystawy fotografii "Olimpijskie Tokio 2020"
END:VEVENT
END:VCALENDAR