BEGIN:VCALENDAR
VERSION:2.0
PRODID:-//Karpacz//NONSGML v1.0//PL
CALSCALE:GREGORIAN
X-WR-TIMEZONE:Europe/Warsaw
BEGIN:VEVENT
DTSTART:20160122T170000
DTEND:20160226T000000
UID:69ecbdb63b6f4
DTSTAMP:20260425T151222
LOCATION:Galeria "U Musa"
DESCRIPTION: https://www.karpacz.pl/wernisaz-wystawy-kalejdoskop-2248/e
URL:https://www.karpacz.pl/wernisaz-wystawy-kalejdoskop-2248/e
SUMMARY:Wernisaż wystawy "Kalejdoskop"
END:VEVENT
END:VCALENDAR