BEGIN:VCALENDAR
VERSION:2.0
PRODID:-//Karpacz//NONSGML v1.0//PL
CALSCALE:GREGORIAN
X-WR-TIMEZONE:Europe/Warsaw
BEGIN:VEVENT
DTSTART:20160312T153000
DTEND:20160312T220000
UID:69ed6b368c148
DTSTAMP:20260426T033238
LOCATION:schronisko Strzecha Akademicka
DESCRIPTION: https://www.karpacz.pl/wielki-final-cyklu-regatta-noc-zima-gory-2016-2279/e
URL:https://www.karpacz.pl/wielki-final-cyklu-regatta-noc-zima-gory-2016-2279/e
SUMMARY:Wielki finał cyklu Regatta Noc-Zima-Góry 2016
END:VEVENT
END:VCALENDAR