BEGIN:VCALENDAR
VERSION:2.0
PRODID:-//Karpacz//NONSGML v1.0//PL
CALSCALE:GREGORIAN
X-WR-TIMEZONE:Europe/Warsaw
BEGIN:VEVENT
DTSTART:20120616T100000
DTEND:20120616T100000
UID:69ed3df60e9f8
DTSTAMP:20260426T001934
LOCATION:szlak im. Dr Orłowicza 
DESCRIPTION:Zapraszamy wszystkich chętnych do udziału w&nbsp\;Urodzinowym Biegu do Kotła Łomniczki. Bieg odbędzie się&nbsp\; w sobotę&nbsp\;16&nbsp\;czerwca o godz.10:00. Startujemy przy wejściu na szlak im.  https://www.karpacz.pl/wiosenny-bieg-do-kotla-lomniczki-1077-1319/e
URL:https://www.karpacz.pl/wiosenny-bieg-do-kotla-lomniczki-1077-1319/e
SUMMARY:Urodzinowy Bieg do Kotła Łomniczki
END:VEVENT
END:VCALENDAR