BEGIN:VCALENDAR
VERSION:2.0
PRODID:-//Karpacz//NONSGML v1.0//PL
CALSCALE:GREGORIAN
X-WR-TIMEZONE:Europe/Warsaw
BEGIN:VEVENT
DTSTART:20250524T170000
DTEND:20250524T183000
UID:69e6f5581ac07
DTSTAMP:20260421T055608
LOCATION:Centrum Integracji\, Edukacji i Kultury w Karpaczu ul.Konstytucji 3 Maja 24
DESCRIPTION:Wydarzenie bezpłatne https://www.karpacz.pl/woman-jazz-unplugged-na-dzien-matki-3181/e
URL:https://www.karpacz.pl/woman-jazz-unplugged-na-dzien-matki-3181/e
SUMMARY:Woman Jazz Unplugged na Dzień Matki
END:VEVENT
END:VCALENDAR