BEGIN:VCALENDAR
VERSION:2.0
PRODID:-//Karpacz//NONSGML v1.0//PL
CALSCALE:GREGORIAN
X-WR-TIMEZONE:Europe/Warsaw
BEGIN:VEVENT
DTSTART:20130816T140000
DTEND:20130816T140000
UID:69ed3da30d9d1
DTSTAMP:20260426T001811
LOCATION:Skwer Zdobywców przy Urzędzie Miasta 
DESCRIPTION:W dniach  16-18 sierpnia odbędzie się Akcja promocyjna
Western City/  Tauron/ Gmina Karpacz

Skwer Zdobywców przy Urzędzie Miasta 
godz. 14:00- 20:00

Zapraszamy. 
 https://www.karpacz.pl/woz-traperski-1675-745/e
URL:https://www.karpacz.pl/woz-traperski-1675-745/e
SUMMARY:Wóz Traperski
END:VEVENT
END:VCALENDAR