BEGIN:VCALENDAR
VERSION:2.0
PRODID:-//Karpacz//NONSGML v1.0//PL
CALSCALE:GREGORIAN
X-WR-TIMEZONE:Europe/Warsaw
BEGIN:VEVENT
DTSTART:20121212T121200
DTEND:20121212T121200
UID:69ea8a4393b74
DTSTAMP:20260423T230819
LOCATION:Stadion Miejski
DESCRIPTION:Dzisiaj tj. 12.12.2012 r. o godz. 12:12 na  Stadionie Miejskim wydeptujemy datę !!! Wszystkich\, kt&oacute\;rzy mają czas i  ochotę zapraszamy do wsp&oacute\;lnego deptania. &quot\;Dzieło&quot\; uwiecz https://www.karpacz.pl/wspolne-wydeptywanie-daty-1377-1031/e
URL:https://www.karpacz.pl/wspolne-wydeptywanie-daty-1377-1031/e
SUMMARY:Wspólne wydeptywanie daty
END:VEVENT
END:VCALENDAR