BEGIN:VCALENDAR
VERSION:2.0
PRODID:-//Karpacz//NONSGML v1.0//PL
CALSCALE:GREGORIAN
X-WR-TIMEZONE:Europe/Warsaw
BEGIN:VEVENT
DTSTART:20230415T100000
DTEND:20230824T163000
UID:69e565c387204
DTSTAMP:20260420T013115
LOCATION:Miejskie Muzeum Zabawek ul. Kolejowa 3\, Karpacz
DESCRIPTION: https://www.karpacz.pl/wystawa-artystyczna-duchy-pradawnego-lasu-liudmyly-bezusko-2863/e
URL:https://www.karpacz.pl/wystawa-artystyczna-duchy-pradawnego-lasu-liudmyly-bezusko-2863/e
SUMMARY:Wystawa artystyczna "Duchy pradawnego lasu" Liudmyly Bezusko
END:VEVENT
END:VCALENDAR