BEGIN:VCALENDAR
VERSION:2.0
PRODID:-//Karpacz//NONSGML v1.0//PL
CALSCALE:GREGORIAN
X-WR-TIMEZONE:Europe/Warsaw
BEGIN:VEVENT
DTSTART:20230428T170000
DTEND:20230614T163000
UID:69e7e9e8564d4
DTSTAMP:20260421T231936
LOCATION:Miejskie Muzeum Zabawek ul. Kolejowa 3\, Karpacz
DESCRIPTION: https://www.karpacz.pl/wystawa-przegladowa-z-palety-pi-artu-2865/e
URL:https://www.karpacz.pl/wystawa-przegladowa-z-palety-pi-artu-2865/e
SUMMARY:Wystawa przeglądowa "Z palety Pi-artu"
END:VEVENT
END:VCALENDAR