BEGIN:VCALENDAR
VERSION:2.0
PRODID:-//Karpacz//NONSGML v1.0//PL
CALSCALE:GREGORIAN
X-WR-TIMEZONE:Europe/Warsaw
BEGIN:VEVENT
DTSTART:20060708T110000
DTEND:20060708T110000
UID:69ea775a38f5a
DTSTAMP:20260423T214738
LOCATION:Stadion Miejski w Karpaczu                                                                          
DESCRIPTION:&nbsp\;K O M U N I K A T z XI BIEGU NA ŚNIEŻKĘ &ndash\; I MISTRZOSTW POLSKI PARLAMENTARZYST&Oacute\;W I SAMORZĄDOWC&Oacute\;W W EKSTREMALNYCH BIEGACH G&Oacute\;RSKICHpod patronatem Marszałka Wojew&oac https://www.karpacz.pl/xi-bieg-na-sniezke-1919/e
URL:https://www.karpacz.pl/xi-bieg-na-sniezke-1919/e
SUMMARY:XI Bieg na Śnieżkę
END:VEVENT
END:VCALENDAR