BEGIN:VCALENDAR
VERSION:2.0
PRODID:-//Karpacz//NONSGML v1.0//PL
CALSCALE:GREGORIAN
X-WR-TIMEZONE:Europe/Warsaw
BEGIN:VEVENT
DTSTART:20151106T160000
DTEND:20151108T180000
UID:69ea8b7982d05
DTSTAMP:20260423T231329
LOCATION:Hotel Gołębiewski
DESCRIPTION:święto ludzi  gór https://www.karpacz.pl/xvi-karkonoskie-dni-lajtowe-85/e
URL:https://www.karpacz.pl/xvi-karkonoskie-dni-lajtowe-85/e
SUMMARY:XVI Karkonoskie Dni Lajtowe
END:VEVENT
END:VCALENDAR