BEGIN:VCALENDAR
VERSION:2.0
PRODID:-//Karpacz//NONSGML v1.0//PL
CALSCALE:GREGORIAN
X-WR-TIMEZONE:Europe/Warsaw
BEGIN:VEVENT
DTSTART:20180402T120000
DTEND:20180402T143000
UID:69e940e04768a
DTSTAMP:20260422T234256
LOCATION:Stok Lodowiec\, Chata Karkonoska\, ul. Wolna 4
DESCRIPTION: https://www.karpacz.pl/xviii-mistrzostwa-polski-z-jajem-2495/e
URL:https://www.karpacz.pl/xviii-mistrzostwa-polski-z-jajem-2495/e
SUMMARY:XVIII Mistrzostwa Polski z Jajem
END:VEVENT
END:VCALENDAR