BEGIN:VCALENDAR
VERSION:2.0
PRODID:-//Karpacz//NONSGML v1.0//PL
CALSCALE:GREGORIAN
X-WR-TIMEZONE:Europe/Warsaw
BEGIN:VEVENT
DTSTART:20120913T000000
DTEND:20120913T000000
UID:69ea7a118c6e7
DTSTAMP:20260423T215913
LOCATION:Kowary-Karpacz- Jelenia Góra
DESCRIPTION:Plan XX Jubileuszowego Zlotu MB/8 Club Poland
Czwartek 13.09.2012
Od 16:00 &ndash\; rejestracja zał&oacute\;g (Jelenia Struga Medical Spa w Kowarach)
19:00 &ndash\; ognisko\, coś z rusztu i browarek  https://www.karpacz.pl/xx-jubileuszowy-zlot-mercedesow-1307-1100/e
URL:https://www.karpacz.pl/xx-jubileuszowy-zlot-mercedesow-1307-1100/e
SUMMARY:XX Jubileuszowy Zlot Mercedesów
END:VEVENT
END:VCALENDAR